BEGIN:VCALENDAR
VERSION:2.0
PRODID:-//Prospera - ECPv6.15.20//NONSGML v1.0//EN
CALSCALE:GREGORIAN
METHOD:PUBLISH
X-WR-CALNAME:Prospera
X-ORIGINAL-URL:https://prosperausa.org
X-WR-CALDESC:Events for Prospera
REFRESH-INTERVAL;VALUE=DURATION:PT1H
X-Robots-Tag:noindex
X-PUBLISHED-TTL:PT1H
BEGIN:VTIMEZONE
TZID:America/New_York
BEGIN:DAYLIGHT
TZOFFSETFROM:-0500
TZOFFSETTO:-0400
TZNAME:EDT
DTSTART:20250309T070000
END:DAYLIGHT
BEGIN:STANDARD
TZOFFSETFROM:-0400
TZOFFSETTO:-0500
TZNAME:EST
DTSTART:20251102T060000
END:STANDARD
BEGIN:DAYLIGHT
TZOFFSETFROM:-0500
TZOFFSETTO:-0400
TZNAME:EDT
DTSTART:20260308T070000
END:DAYLIGHT
BEGIN:STANDARD
TZOFFSETFROM:-0400
TZOFFSETTO:-0500
TZNAME:EST
DTSTART:20261101T060000
END:STANDARD
BEGIN:DAYLIGHT
TZOFFSETFROM:-0500
TZOFFSETTO:-0400
TZNAME:EDT
DTSTART:20270314T070000
END:DAYLIGHT
BEGIN:STANDARD
TZOFFSETFROM:-0400
TZOFFSETTO:-0500
TZNAME:EST
DTSTART:20271107T060000
END:STANDARD
END:VTIMEZONE
BEGIN:VEVENT
DTSTART;TZID=America/New_York:20260504T150000
DTEND;TZID=America/New_York:20260504T163000
DTSTAMP:20260421T092423
CREATED:20260226T202957Z
LAST-MODIFIED:20260226T203337Z
UID:10000672-1777906800-1777912200@prosperausa.org
SUMMARY:Orientación sobre su negocio y Prospera
DESCRIPTION:Obtenga información básica sobre cómo comenzar un negocio de forma correcta y exitosa. \nAprenderá sobre:\n• Licencias\n• Requisitos del estado\n• Opciones de financiamiento\n• Cómo Prospera le puede proveer asistencia para comenzar o expandir su negocio \n\nRegister Here / Inscríbase Aquí
URL:https://prosperausa.org/seminar/orientacion-sobre-su-negocio-y-prospera-40/
LOCATION:Clearwater Public Library\, 2465 Drew st\, Clearwater\, FL\, 33765\, United States
CATEGORIES:In-Person / En Persona
ATTACH;FMTTYPE=image/png:https://prosperausa.org/wp-content/uploads/2024/09/Inteligencia-emocional-financiera-para-su-exito-empresarial.png
END:VEVENT
BEGIN:VEVENT
DTSTART;TZID=America/New_York:20260504T183000
DTEND;TZID=America/New_York:20260504T200000
DTSTAMP:20260421T092423
CREATED:20260407T142722Z
LAST-MODIFIED:20260407T142802Z
UID:10000772-1777919400-1777924800@prosperausa.org
SUMMARY:Tácticas ganadoras: Maximice el éxito de su negocio durante el mundial
DESCRIPTION:Conozca cómo preparar su negocio para aprovechar el impacto del Mundial y destacar frente a nuevos clientes durante esta temporada.\nTemas a tratar:\n• Estrategias de mercadeo para aumentar visibilidad durante el Mundial\n• Cómo fortalecer su presencia en línea para atraer nuevos clientes\n• Ajustes operativos para responder a la demanda y mejorar la eficiencia \n\nRegister Here / Inscríbase Aquí
URL:https://prosperausa.org/seminar/tacticas-ganadoras-maximice-el-exito-de-su-negocio-durante-el-mundial/
LOCATION:Manolo Reyes Park\, 6030 SW 2nd St\, Miami\, FL\, 33144\, United States
CATEGORIES:In-Person / En Persona
ATTACH;FMTTYPE=image/png:https://prosperausa.org/wp-content/uploads/2026/01/Mundial-Fifa-2026-y-su-negocio-1.png
END:VEVENT
BEGIN:VEVENT
DTSTART;TZID=America/New_York:20260506T173000
DTEND;TZID=America/New_York:20260506T190000
DTSTAMP:20260421T092423
CREATED:20260410T122519Z
LAST-MODIFIED:20260410T122519Z
UID:10000774-1778088600-1778094000@prosperausa.org
SUMMARY:Academia de Tecnología Día 1: Mercadeo con inteligencia artificial para su negocio
DESCRIPTION:Descubra cómo utilizar herramientas de inteligencia artificial para fortalecer su mercadeo\, mejorar su comunicación y crear contenido digital de forma más eficiente. \nTemas a tratar:\n• Uso de IA para mejorar la comunicación y el manejo de voz\n• Creación y automatización de videos con IA\n• Edición y optimización de imágenes para redes sociales \n\nRegister Here / Inscríbase Aquí
URL:https://prosperausa.org/seminar/academia-de-tecnologia-dia-1-mercadeo-con-inteligencia-artificial-para-su-negocio/
LOCATION:Entrepreneur Collaborative Center (ECC)\, 2101 E. Palm Ave\, Tampa\, FL\, 33605\, United States
CATEGORIES:In-Person / En Persona
ATTACH;FMTTYPE=image/png:https://prosperausa.org/wp-content/uploads/2026/04/Entrepreneur-Collaborative-Center-Academia.png
END:VEVENT
BEGIN:VEVENT
DTSTART;TZID=America/New_York:20260507T150000
DTEND;TZID=America/New_York:20260507T163000
DTSTAMP:20260421T092423
CREATED:20260407T145642Z
LAST-MODIFIED:20260407T145642Z
UID:10000773-1778166000-1778171400@prosperausa.org
SUMMARY:Orientación sobre su negocio y Prospera
DESCRIPTION:Obtenga información básica sobre cómo comenzar un negocio de forma correcta y exitosa. \nAprenderá sobre:\n• Licencias\n• Requisitos del estado\n• Opciones de financiamiento\n• Cómo Prospera le puede proveer asistencia para comenzar o expandir su negocio \n\nRegister Here / Inscríbase Aquí
URL:https://prosperausa.org/seminar/orientacion-sobre-su-negocio-y-prospera/
LOCATION:National Entrepreneur Center (NEC)\, 3201 E. Colonial Drive Suite A20\, Orlando\, FL\, United States
CATEGORIES:In-Person / En Persona
ATTACH;FMTTYPE=image/png:https://prosperausa.org/wp-content/uploads/2025/08/NEC-1.png
END:VEVENT
BEGIN:VEVENT
DTSTART;TZID=America/New_York:20260507T173000
DTEND;TZID=America/New_York:20260507T190000
DTSTAMP:20260421T092423
CREATED:20260226T204039Z
LAST-MODIFIED:20260226T210113Z
UID:10000674-1778175000-1778180400@prosperausa.org
SUMMARY:Orientación sobre su negocio y Prospera
DESCRIPTION:Obtenga información básica sobre cómo comenzar un negocio de forma correcta y exitosa. \nAprenderá sobre:\n• Licencias\n• Requisitos del estado\n• Opciones de financiamiento\n• Cómo Prospera le puede proveer asistencia para comenzar o expandir su negocio \n\nRegister Here / Inscríbase Aquí
URL:https://prosperausa.org/seminar/orientacion-sobre-su-negocio-y-prospera-41/
LOCATION:Simmons YMCA\, 6824 Democracy Dr.\, Charlotte\, NC\, 28212\, United States
CATEGORIES:In-Person / En Persona
ATTACH;FMTTYPE=image/png:https://prosperausa.org/wp-content/uploads/2026/02/YMCA-Simmons-Charlotte.png
END:VEVENT
END:VCALENDAR