BEGIN:VCALENDAR
VERSION:2.0
PRODID:-//Prospera - ECPv6.15.20//NONSGML v1.0//EN
CALSCALE:GREGORIAN
METHOD:PUBLISH
X-ORIGINAL-URL:https://prosperausa.org
X-WR-CALDESC:Events for Prospera
REFRESH-INTERVAL;VALUE=DURATION:PT1H
X-Robots-Tag:noindex
X-PUBLISHED-TTL:PT1H
BEGIN:VTIMEZONE
TZID:America/New_York
BEGIN:DAYLIGHT
TZOFFSETFROM:-0500
TZOFFSETTO:-0400
TZNAME:EDT
DTSTART:20250309T070000
END:DAYLIGHT
BEGIN:STANDARD
TZOFFSETFROM:-0400
TZOFFSETTO:-0500
TZNAME:EST
DTSTART:20251102T060000
END:STANDARD
BEGIN:DAYLIGHT
TZOFFSETFROM:-0500
TZOFFSETTO:-0400
TZNAME:EDT
DTSTART:20260308T070000
END:DAYLIGHT
BEGIN:STANDARD
TZOFFSETFROM:-0400
TZOFFSETTO:-0500
TZNAME:EST
DTSTART:20261101T060000
END:STANDARD
BEGIN:DAYLIGHT
TZOFFSETFROM:-0500
TZOFFSETTO:-0400
TZNAME:EDT
DTSTART:20270314T070000
END:DAYLIGHT
BEGIN:STANDARD
TZOFFSETFROM:-0400
TZOFFSETTO:-0500
TZNAME:EST
DTSTART:20271107T060000
END:STANDARD
END:VTIMEZONE
BEGIN:VEVENT
DTSTART;TZID=America/New_York:20260514T110000
DTEND;TZID=America/New_York:20260514T123000
DTSTAMP:20260423T063910
CREATED:20260226T210914Z
LAST-MODIFIED:20260226T210914Z
UID:10000678-1778756400-1778761800@prosperausa.org
SUMMARY:Orientación sobre su negocio y Prospera
DESCRIPTION:Obtenga información básica sobre cómo comenzar un negocio de forma correcta y exitosa. \nAprenderá sobre:\n• Licencias\n• Requisitos del estado\n• Opciones de financiamiento\n• Cómo Prospera le puede proveer asistencia para comenzar o expandir su negocio \n\nRegister Here / Inscríbase Aquí
URL:https://prosperausa.org/seminar/orientacion-sobre-su-negocio-y-prospera-44/
LOCATION:Seminole State College – Heathrow Campus\, 1055 AAA Dr\, Heathrow\, FL\, 32746\, United States
CATEGORIES:In-Person / En Persona
ATTACH;FMTTYPE=image/png:https://prosperausa.org/wp-content/uploads/2025/11/Seminole-State-College-Heathrow-Campus-4-2-scaled.png
END:VEVENT
BEGIN:VEVENT
DTSTART;TZID=America/New_York:20260611T110000
DTEND;TZID=America/New_York:20260611T123000
DTSTAMP:20260423T063910
CREATED:20260311T125848Z
LAST-MODIFIED:20260311T125848Z
UID:10000749-1781175600-1781181000@prosperausa.org
SUMMARY:Orientación sobre su negocio y Prospera
DESCRIPTION:Obtenga información básica sobre cómo comenzar un negocio de forma correcta y exitosa. \nAprenderá sobre:\n• Licencias\n• Requisitos del estado\n• Opciones de financiamiento\n• Cómo Prospera le puede proveer asistencia para comenzar o expandir su negocio \n\nRegister Here / Inscríbase Aquí
URL:https://prosperausa.org/seminar/orientacion-sobre-su-negocio-y-prospera-13/
LOCATION:Seminole State College – Heathrow Campus\, 1055 AAA Dr\, Heathrow\, FL\, 32746\, United States
CATEGORIES:In-Person / En Persona
ATTACH;FMTTYPE=image/png:https://prosperausa.org/wp-content/uploads/2025/11/Seminole-State-College-Heathrow-Campus-4-2-scaled.png
END:VEVENT
BEGIN:VEVENT
DTSTART;TZID=America/New_York:20260709T110000
DTEND;TZID=America/New_York:20260709T123000
DTSTAMP:20260423T063910
CREATED:20260403T173526Z
LAST-MODIFIED:20260403T173526Z
UID:10000765-1783594800-1783600200@prosperausa.org
SUMMARY:Orientación sobre su negocio y Prospera
DESCRIPTION:Obtenga información básica sobre cómo comenzar un negocio de forma correcta y exitosa. \nAprenderá sobre:\n• Licencias\n• Requisitos del estado\n• Opciones de financiamiento\n• Cómo Prospera le puede proveer asistencia para comenzar o expandir su negocio \n\nRegister Here / Inscríbase Aquí
URL:https://prosperausa.org/seminar/orientacion-sobre-su-negocio-y-prospera-19/
LOCATION:Seminole State College – Heathrow Campus\, 1055 AAA Dr\, Heathrow\, FL\, 32746\, United States
CATEGORIES:In-Person / En Persona
ATTACH;FMTTYPE=image/png:https://prosperausa.org/wp-content/uploads/2025/11/Seminole-State-College-Heathrow-Campus-4-2-scaled.png
END:VEVENT
END:VCALENDAR