BEGIN:VCALENDAR
VERSION:2.0
PRODID:-//Prospera - ECPv6.15.20//NONSGML v1.0//EN
CALSCALE:GREGORIAN
METHOD:PUBLISH
X-ORIGINAL-URL:https://prosperausa.org
X-WR-CALDESC:Events for Prospera
REFRESH-INTERVAL;VALUE=DURATION:PT1H
X-Robots-Tag:noindex
X-PUBLISHED-TTL:PT1H
BEGIN:VTIMEZONE
TZID:America/New_York
BEGIN:DAYLIGHT
TZOFFSETFROM:-0500
TZOFFSETTO:-0400
TZNAME:EDT
DTSTART:20250309T070000
END:DAYLIGHT
BEGIN:STANDARD
TZOFFSETFROM:-0400
TZOFFSETTO:-0500
TZNAME:EST
DTSTART:20251102T060000
END:STANDARD
BEGIN:DAYLIGHT
TZOFFSETFROM:-0500
TZOFFSETTO:-0400
TZNAME:EDT
DTSTART:20260308T070000
END:DAYLIGHT
BEGIN:STANDARD
TZOFFSETFROM:-0400
TZOFFSETTO:-0500
TZNAME:EST
DTSTART:20261101T060000
END:STANDARD
BEGIN:DAYLIGHT
TZOFFSETFROM:-0500
TZOFFSETTO:-0400
TZNAME:EDT
DTSTART:20270314T070000
END:DAYLIGHT
BEGIN:STANDARD
TZOFFSETFROM:-0400
TZOFFSETTO:-0500
TZNAME:EST
DTSTART:20271107T060000
END:STANDARD
END:VTIMEZONE
BEGIN:VEVENT
DTSTART;TZID=America/New_York:20260409T150000
DTEND;TZID=America/New_York:20260409T163000
DTSTAMP:20260421T061037
CREATED:20260319T180630Z
LAST-MODIFIED:20260319T182538Z
UID:10000760-1775746800-1775752200@prosperausa.org
SUMMARY:Reduzca los riesgos operativos al iniciar su negocio
DESCRIPTION:Conozca cómo identificar y reducir los principales riesgos operativos al iniciar su negocio. Este taller ofrece herramientas prácticas para anticipar posibles desafíos\, tomar decisiones más seguras y establecer bases sólidas que contribuyan a la continuidad y estabilidad de su empresa desde sus primeras etapas. \nTemas a tratar: \n• Principales riesgos operativos al iniciar un negocio\n• Cómo prevenir errores comunes en la gestión diaria\n• Estrategias básicas para reducir riesgos y mejorar la operación\n• Importancia de la planificación para la continuidad del negocio \n\nRegister Here / Inscríbase Aquí
URL:https://prosperausa.org/seminar/reduzca-los-riesgos-operativos-al-iniciar-su-negocio/
LOCATION:NC
CATEGORIES:In-Person / En Persona
ATTACH;FMTTYPE=image/png:https://prosperausa.org/wp-content/uploads/2026/03/risk.png
END:VEVENT
BEGIN:VEVENT
DTSTART;TZID=America/New_York:20260408T153000
DTEND;TZID=America/New_York:20260408T170000
DTSTAMP:20260421T061037
CREATED:20260219T003800Z
LAST-MODIFIED:20260219T003829Z
UID:10000658-1775662200-1775667600@prosperausa.org
SUMMARY:Orientación sobre su negocio y Prospera
DESCRIPTION:Obtenga información básica sobre cómo comenzar un negocio de forma correcta y exitosa. \nAprenderá sobre:\n• Licencias\n• Requisitos del estado\n• Opciones de financiamiento\n• Cómo Prospera le puede proveer asistencia para comenzar o expandir su negocio \n\nRegister Here / Inscríbase Aquí
URL:https://prosperausa.org/seminar/orientacion-sobre-su-negocio-y-prospera-7/
LOCATION:Entrepreneur Collaborative Center (ECC)\, 2101 E. Palm Ave\, Tampa\, FL\, 33605\, United States
CATEGORIES:In-Person / En Persona
ATTACH;FMTTYPE=image/png:https://prosperausa.org/wp-content/uploads/2026/02/ECC-1-1.png
END:VEVENT
BEGIN:VEVENT
DTSTART;TZID=America/New_York:20260407T173000
DTEND;TZID=America/New_York:20260407T190000
DTSTAMP:20260421T061037
CREATED:20260212T220751Z
LAST-MODIFIED:20260317T205409Z
UID:10000651-1775583000-1775588400@prosperausa.org
SUMMARY:Orientación sobre su negocio y Prospera
DESCRIPTION:Obtenga información básica sobre cómo comenzar un negocio de forma correcta y exitosa. \nAprenderá sobre:\n• Licencias\n• Requisitos del estado\n• Opciones de financiamiento\n• Cómo Prospera le puede proveer asistencia para comenzar o expandir su negocio \n\nRegister Here / Inscríbase Aquí
URL:https://prosperausa.org/seminar/orientacion-sobre-su-negocio-y-prospera-33/
LOCATION:Prospera Office Charlotte\, 4938 Central Avenue\, Charlotte\, NC\, 28205\, United States
CATEGORIES:In-Person / En Persona
ATTACH;FMTTYPE=image/png:https://prosperausa.org/wp-content/uploads/2026/02/Prospera-Office-in-Charlotte.png
END:VEVENT
BEGIN:VEVENT
DTSTART;TZID=America/New_York:20260407T110000
DTEND;TZID=America/New_York:20260407T120000
DTSTAMP:20260421T061037
CREATED:20260212T213505Z
LAST-MODIFIED:20260212T213505Z
UID:10000650-1775559600-1775563200@prosperausa.org
SUMMARY:Orientación sobre su negocio y Prospera
DESCRIPTION:Obtenga información básica sobre cómo comenzar un negocio de forma correcta y exitosa. \nAprenderá sobre:\n• Licencias\n• Requisitos del estado\n• Opciones de financiamiento\n• Cómo Prospera le puede proveer asistencia para comenzar o expandir su negocio \n\nRegister Here / Inscríbase Aquí
URL:https://prosperausa.org/seminar/orientacion-sobre-su-negocio-y-prospera-24/
LOCATION:Gwinnett County Public Library: Norcross Branch\, 5735 Buford Hwy\, Norcross\, GA\, 30071\, United States
CATEGORIES:In-Person / En Persona
ATTACH;FMTTYPE=image/png:https://prosperausa.org/wp-content/uploads/2026/02/Gwinnett-Public-Library-1.png
END:VEVENT
BEGIN:VEVENT
DTSTART;TZID=America/New_York:20260402T150000
DTEND;TZID=America/New_York:20260402T163000
DTSTAMP:20260421T061037
CREATED:20260212T212604Z
LAST-MODIFIED:20260212T212604Z
UID:10000648-1775142000-1775147400@prosperausa.org
SUMMARY:Orientación sobre su negocio y Prospera
DESCRIPTION:Obtenga información básica sobre cómo comenzar un negocio de forma correcta y exitosa. \nAprenderá sobre:\n• Licencias\n• Requisitos del estado\n• Opciones de financiamiento\n• Cómo Prospera le puede proveer asistencia para comenzar o expandir su negocio \n\nRegister Here / Inscríbase Aquí
URL:https://prosperausa.org/seminar/orientacion-sobre-su-negocio-y-prospera-12/
LOCATION:National Entrepreneur Center (NEC)\, 3201 E. Colonial Drive Suite A20\, Orlando\, FL\, United States
CATEGORIES:In-Person / En Persona
ATTACH;FMTTYPE=image/jpeg:https://prosperausa.org/wp-content/uploads/2025/08/NEC-Orlando-2-e1755100107899.jpeg
END:VEVENT
BEGIN:VEVENT
DTSTART;TZID=America/New_York:20260326T180000
DTEND;TZID=America/New_York:20260326T193000
DTSTAMP:20260421T061037
CREATED:20260224T022637Z
LAST-MODIFIED:20260224T022637Z
UID:10000670-1774548000-1774553400@prosperausa.org
SUMMARY:Sabor y éxito: Impulse su negocio de comida
DESCRIPTION:Descubra claves para destacar en la industria gastronómica. Aprenda cómo diferenciar su propuesta y aumentar sus ingresos. \nTemas a tratar: \n•Buenas prácticas para operar y hacer crecer restaurantes\n•Renta de locales comerciales y selección del espacio ideal\n•Cocinas comisarias: opciones y requisitos\n•Licencias y permisos para negocios de comida\n•Manejo y regulación de food trucks \n\nRegister Here / Inscríbase Aquí
URL:https://prosperausa.org/seminar/sabor-y-exito-impulse-su-negocio-de-comida/
LOCATION:Kissimmee City Hall\, 101 Church St\, Kissimmee\, 34741\, United States
CATEGORIES:In-Person / En Persona
ATTACH;FMTTYPE=image/png:https://prosperausa.org/wp-content/uploads/2026/02/Seminars-Venues-1-1.png
END:VEVENT
BEGIN:VEVENT
DTSTART;TZID=America/New_York:20260326T180000
DTEND;TZID=America/New_York:20260326T193000
DTSTAMP:20260421T061037
CREATED:20260213T174232Z
LAST-MODIFIED:20260213T174232Z
UID:10000655-1774548000-1774553400@prosperausa.org
SUMMARY:Proteja su negocio: Ciberseguridad para emprendedores
DESCRIPTION:Descubra cómo proteger su información y la de su negocio a través de: \n• Herramientas y técnicas de ciberseguridad\n• Identificación de amenazas\n• Seguridad en redes y dispositivos\n• Protección de pagos y transacciones en línea\, y más. \n\nRegister Here / Inscríbase Aquí
URL:https://prosperausa.org/seminar/proteja-su-negocio-ciberseguridad-para-emprendedores-2/
LOCATION:Collaboratory\, 2031 Jackson St.\, Fort Myers\, 33901\, United States
CATEGORIES:In-Person / En Persona
ATTACH;FMTTYPE=image/png:https://prosperausa.org/wp-content/uploads/2025/04/Ciberseguridad-para-emprendedores-1.png
END:VEVENT
BEGIN:VEVENT
DTSTART;TZID=America/New_York:20260326T100000
DTEND;TZID=America/New_York:20260326T113000
DTSTAMP:20260421T061037
CREATED:20250813T191257Z
LAST-MODIFIED:20260217T184744Z
UID:10000549-1774519200-1774524600@prosperausa.org
SUMMARY:Orientación sobre su negocio y Prospera
DESCRIPTION:Obtenga información básica sobre cómo comenzar un negocio de forma correcta y exitosa. \nAprenderá sobre:\n• Licencias\n• Requisitos del estado\n• Opciones de financiamiento\n• Cómo Prospera le puede proveer asistencia para comenzar o expandir su negocio \n\nRegister Here / Inscríbase Aquí
URL:https://prosperausa.org/seminar/orientacion-sobre-su-negocio-y-prospera-131/
LOCATION:National Entrepreneur Center (NEC)\, 3201 E. Colonial Drive Suite A20\, Orlando\, FL\, United States
CATEGORIES:In-Person / En Persona
ATTACH;FMTTYPE=image/jpeg:https://prosperausa.org/wp-content/uploads/2025/08/NEC-Orlando-2-e1755100107899.jpeg
END:VEVENT
BEGIN:VEVENT
DTSTART;TZID=America/New_York:20260325T180000
DTEND;TZID=America/New_York:20260325T193000
DTSTAMP:20260421T061037
CREATED:20260310T193848Z
LAST-MODIFIED:20260310T193848Z
UID:10000743-1774461600-1774467000@prosperausa.org
SUMMARY:Mundial FIFA 2026: Cómo posicionar su marca y aumentar sus ventas
DESCRIPTION:Conozca cómo preparar su negocio con estrategias creativas de mercadeo para aprovechar el impacto del Mundial y conectar con su audiencia antes\, durante y después del evento. \nTemas a tratar:\n• Estrategias creativas de mercadeo para contar historias que conectan\n• Cómo posicionar su marca de forma efectiva alrededor del Mundial\n• Acciones prácticas para impulsar ventas antes\, durante y después del evento \n\nRegister Here / Inscríbase Aquí
URL:https://prosperausa.org/seminar/mundial-fifa-2026-como-posicionar-su-marca-y-aumentar-sus-ventas-2/
LOCATION:Virtual\, United States
CATEGORIES:Virtual
ATTACH;FMTTYPE=image/png:https://prosperausa.org/wp-content/uploads/2026/01/Mundial-Fifa-2026-y-su-negocio-1.png
END:VEVENT
BEGIN:VEVENT
DTSTART;TZID=America/New_York:20260325T180000
DTEND;TZID=America/New_York:20260325T193000
DTSTAMP:20260421T061037
CREATED:20260213T173942Z
LAST-MODIFIED:20260213T173942Z
UID:10000654-1774461600-1774467000@prosperausa.org
SUMMARY:Orientación sobre su negocio y Prospera
DESCRIPTION:Obtenga información básica sobre cómo comenzar un negocio de forma correcta y exitosa. \nAprenderá sobre:\n• Licencias\n• Requisitos del estado\n• Opciones de financiamiento\n• Cómo Prospera le puede proveer asistencia para comenzar o expandir su negocio \n\nRegister Here / Inscríbase Aquí
URL:https://prosperausa.org/seminar/orientacion-sobre-su-negocio-y-prospera-35/
LOCATION:Collaboratory\, 2031 Jackson St.\, Fort Myers\, 33901\, United States
CATEGORIES:In-Person / En Persona
ATTACH;FMTTYPE=image/png:https://prosperausa.org/wp-content/uploads/2024/09/Inteligencia-emocional-financiera-para-su-exito-empresarial.png
END:VEVENT
BEGIN:VEVENT
DTSTART;TZID=America/New_York:20260325T173000
DTEND;TZID=America/New_York:20260325T183000
DTSTAMP:20260421T061037
CREATED:20260128T221059Z
LAST-MODIFIED:20260128T221059Z
UID:10000637-1774459800-1774463400@prosperausa.org
SUMMARY:Orientación sobre su negocio y Prospera
DESCRIPTION:Obtenga información básica sobre cómo comenzar un negocio de forma correcta y exitosa. \nAprenderá sobre:\n• Licencias\n• Requisitos del estado\n• Opciones de financiamiento\n• Cómo Prospera le puede proveer asistencia para comenzar o expandir su negocio \n\nRegister Here / Inscríbase Aquí
URL:https://prosperausa.org/seminar/orientacion-sobre-su-negocio-y-prospera-32/
LOCATION:Entrepreneur Collaborative Center (ECC)\, 2101 E. Palm Ave\, Tampa\, FL\, 33605\, United States
CATEGORIES:In-Person / En Persona
ATTACH;FMTTYPE=image/jpeg:https://prosperausa.org/wp-content/uploads/2025/11/2025.11.24-WORKSHOP-ECC.jpg
END:VEVENT
BEGIN:VEVENT
DTSTART;TZID=America/New_York:20260324T180000
DTEND;TZID=America/New_York:20260324T193000
DTSTAMP:20260421T061037
CREATED:20260226T183931Z
LAST-MODIFIED:20260226T183945Z
UID:10000673-1774375200-1774380600@prosperausa.org
SUMMARY:Orientación sobre su negocio y Prospera
DESCRIPTION:Obtenga información básica sobre cómo comenzar un negocio de forma correcta y exitosa. \nAprenderá sobre:\n• Licencias\n• Requisitos del estado\n• Opciones de financiamiento\n• Cómo Prospera le puede proveer asistencia para comenzar o expandir su negocio \n\nRegister Here / Inscríbase Aquí
URL:https://prosperausa.org/seminar/orientacion-sobre-su-negocio-y-prospera-4/
LOCATION:Simply Healthcare\, 1905 W 35th Street Suite #105\, Hialeah\, FL\, 33012\, United States
CATEGORIES:In-Person / En Persona
ATTACH;FMTTYPE=image/png:https://prosperausa.org/wp-content/uploads/2024/09/Inteligencia-emocional-financiera-para-su-exito-empresarial.png
END:VEVENT
BEGIN:VEVENT
DTSTART;TZID=America/New_York:20260324T153000
DTEND;TZID=America/New_York:20260324T170000
DTSTAMP:20260421T061037
CREATED:20260213T174425Z
LAST-MODIFIED:20260213T174425Z
UID:10000656-1774366200-1774371600@prosperausa.org
SUMMARY:Orientación sobre su negocio y Prospera
DESCRIPTION:Obtenga información básica sobre cómo comenzar un negocio de forma correcta y exitosa. \nAprenderá sobre:\n• Licencias\n• Requisitos del estado\n• Opciones de financiamiento\n• Cómo Prospera le puede proveer asistencia para comenzar o expandir su negocio \n\nRegister Here / Inscríbase Aquí
URL:https://prosperausa.org/seminar/orientacion-sobre-su-negocio-y-prospera-36/
LOCATION:Asociación Latinoamericana\, 2750 Buford Hwy NE.\, Atlanta\, GA\, 30324\, United States
CATEGORIES:In-Person / En Persona
ATTACH;FMTTYPE=image/jpeg:https://prosperausa.org/wp-content/uploads/2025/12/Prospera-Office-Latin-American-Association-2-1-scaled.jpg
END:VEVENT
END:VCALENDAR