BEGIN:VCALENDAR
VERSION:2.0
PRODID:-//Prospera - ECPv6.15.20//NONSGML v1.0//EN
CALSCALE:GREGORIAN
METHOD:PUBLISH
X-WR-CALNAME:Prospera
X-ORIGINAL-URL:https://prosperausa.org
X-WR-CALDESC:Events for Prospera
REFRESH-INTERVAL;VALUE=DURATION:PT1H
X-Robots-Tag:noindex
X-PUBLISHED-TTL:PT1H
BEGIN:VTIMEZONE
TZID:America/New_York
BEGIN:DAYLIGHT
TZOFFSETFROM:-0500
TZOFFSETTO:-0400
TZNAME:EDT
DTSTART:20250309T070000
END:DAYLIGHT
BEGIN:STANDARD
TZOFFSETFROM:-0400
TZOFFSETTO:-0500
TZNAME:EST
DTSTART:20251102T060000
END:STANDARD
BEGIN:DAYLIGHT
TZOFFSETFROM:-0500
TZOFFSETTO:-0400
TZNAME:EDT
DTSTART:20260308T070000
END:DAYLIGHT
BEGIN:STANDARD
TZOFFSETFROM:-0400
TZOFFSETTO:-0500
TZNAME:EST
DTSTART:20261101T060000
END:STANDARD
BEGIN:DAYLIGHT
TZOFFSETFROM:-0500
TZOFFSETTO:-0400
TZNAME:EDT
DTSTART:20270314T070000
END:DAYLIGHT
BEGIN:STANDARD
TZOFFSETFROM:-0400
TZOFFSETTO:-0500
TZNAME:EST
DTSTART:20271107T060000
END:STANDARD
END:VTIMEZONE
BEGIN:VEVENT
DTSTART;TZID=America/New_York:20260423T173000
DTEND;TZID=America/New_York:20260423T190000
DTSTAMP:20260423T064544
CREATED:20260220T003838Z
LAST-MODIFIED:20260220T003838Z
UID:10000668-1776965400-1776970800@prosperausa.org
SUMMARY:Gestión emocional y financiera: Impulse el crecimiento de su negocio
DESCRIPTION:Las emociones influyen más de lo que parece en las decisiones financieras de un negocio. En este seminario aprenderá a identificar creencias limitantes\, manejar su relación con el dinero y desarrollar una mentalidad que favorezca el crecimiento económico. \nTemas a tratar:\n• Conexión entre emociones y decisiones financieras\n• Creencias limitantes y personalidad financiera\n• Patrones que afectan la rentabilidad\n• Herramientas prácticas para mejorar ventas y gestión financiera \n\nRegister Here / Inscríbase Aquí
URL:https://prosperausa.org/seminar/gestion-emocional-y-financiera-impulse-el-crecimiento-de-su-negocio/
LOCATION:6824 Democracy Dr\, 6824 Democracy Dr\, Charlotte\, NC\, 28212\, United States
CATEGORIES:In-Person / En Persona
ATTACH;FMTTYPE=image/png:https://prosperausa.org/wp-content/uploads/2026/02/Gestion-financiera-1.png
END:VEVENT
BEGIN:VEVENT
DTSTART;TZID=America/New_York:20260430T150000
DTEND;TZID=America/New_York:20260430T163000
DTSTAMP:20260423T064544
CREATED:20260212T212937Z
LAST-MODIFIED:20260212T212937Z
UID:10000649-1777561200-1777566600@prosperausa.org
SUMMARY:Orientación sobre su negocio y Prospera
DESCRIPTION:Obtenga información básica sobre cómo comenzar un negocio de forma correcta y exitosa. \nAprenderá sobre:\n• Licencias\n• Requisitos del estado\n• Opciones de financiamiento\n• Cómo Prospera le puede proveer asistencia para comenzar o expandir su negocio \n\nRegister Here / Inscríbase Aquí
URL:https://prosperausa.org/seminar/orientacion-sobre-su-negocio-y-prospera-21/
LOCATION:National Entrepreneur Center (NEC)\, 3201 E. Colonial Drive Suite A20\, Orlando\, FL\, United States
CATEGORIES:In-Person / En Persona
ATTACH;FMTTYPE=image/jpeg:https://prosperausa.org/wp-content/uploads/2025/08/NEC-Orlando-2-e1755100107899.jpeg
END:VEVENT
END:VCALENDAR