BEGIN:VCALENDAR
VERSION:2.0
PRODID:-//Prospera - ECPv6.15.20//NONSGML v1.0//EN
CALSCALE:GREGORIAN
METHOD:PUBLISH
X-ORIGINAL-URL:https://prosperausa.org
X-WR-CALDESC:Events for Prospera
REFRESH-INTERVAL;VALUE=DURATION:PT1H
X-Robots-Tag:noindex
X-PUBLISHED-TTL:PT1H
BEGIN:VTIMEZONE
TZID:America/New_York
BEGIN:DAYLIGHT
TZOFFSETFROM:-0500
TZOFFSETTO:-0400
TZNAME:EDT
DTSTART:20250309T070000
END:DAYLIGHT
BEGIN:STANDARD
TZOFFSETFROM:-0400
TZOFFSETTO:-0500
TZNAME:EST
DTSTART:20251102T060000
END:STANDARD
BEGIN:DAYLIGHT
TZOFFSETFROM:-0500
TZOFFSETTO:-0400
TZNAME:EDT
DTSTART:20260308T070000
END:DAYLIGHT
BEGIN:STANDARD
TZOFFSETFROM:-0400
TZOFFSETTO:-0500
TZNAME:EST
DTSTART:20261101T060000
END:STANDARD
BEGIN:DAYLIGHT
TZOFFSETFROM:-0500
TZOFFSETTO:-0400
TZNAME:EDT
DTSTART:20270314T070000
END:DAYLIGHT
BEGIN:STANDARD
TZOFFSETFROM:-0400
TZOFFSETTO:-0500
TZNAME:EST
DTSTART:20271107T060000
END:STANDARD
END:VTIMEZONE
BEGIN:VEVENT
DTSTART;TZID=America/New_York:20260716T150000
DTEND;TZID=America/New_York:20260716T163000
DTSTAMP:20260421T145153
CREATED:20260403T174427Z
LAST-MODIFIED:20260403T174427Z
UID:10000767-1784214000-1784219400@prosperausa.org
SUMMARY:Orientación sobre su negocio y Prospera
DESCRIPTION:Obtenga información básica sobre cómo comenzar un negocio de forma correcta y exitosa. \nAprenderá sobre:\n• Licencias\n• Requisitos del estado\n• Opciones de financiamiento\n• Cómo Prospera le puede proveer asistencia para comenzar o expandir su negocio \n\nRegister Here / Inscríbase Aquí
URL:https://prosperausa.org/seminar/orientacion-sobre-su-negocio-y-prospera-29/
LOCATION:Florida Technical College Kissimmee\, 3831 W Vine St\, Kissimmee\, FL\, 34741\, United States
CATEGORIES:In-Person / En Persona
ATTACH;FMTTYPE=image/png:https://prosperausa.org/wp-content/uploads/2024/09/Inteligencia-emocional-financiera-para-su-exito-empresarial.png
END:VEVENT
BEGIN:VEVENT
DTSTART;TZID=America/New_York:20260716T153000
DTEND;TZID=America/New_York:20260716T170000
DTSTAMP:20260421T145153
CREATED:20260410T173509Z
LAST-MODIFIED:20260410T174209Z
UID:10000781-1784215800-1784221200@prosperausa.org
SUMMARY:Marcas y patentes: Proteja la creatividad detrás de su negocio
DESCRIPTION:Aprenda a proteger legalmente la identidad y las invenciones de su negocio. Descubra cómo asegurar sus activos de propiedad intelectual e integrarlos estratégicamente en su crecimiento empresarial. \nTemas a tratar:\n• Registro y gestión de marcas y patentes\n• Protección de activos de propiedad intelectual\n• Estrategias legales para defender sus derechos\n• Uso de marcas y patentes en su plan de negocio \n\nRegister Here / Inscríbase Aquí
URL:https://prosperausa.org/seminar/marcas-y-patentes-proteja-la-creatividad-detras-de-su-negocio-2/
LOCATION:Asociación Latinoamericana\, 2750 Buford Hwy NE.\, Atlanta\, GA\, 30324\, United States
CATEGORIES:In-Person / En Persona
ATTACH;FMTTYPE=image/png:https://prosperausa.org/wp-content/uploads/2024/09/Proteja-su-innovacion_-Todo-sobre-marcas-y-patentes-2.png
END:VEVENT
BEGIN:VEVENT
DTSTART;TZID=America/New_York:20260723T150000
DTEND;TZID=America/New_York:20260723T163000
DTSTAMP:20260421T145153
CREATED:20260403T174653Z
LAST-MODIFIED:20260403T174653Z
UID:10000768-1784818800-1784824200@prosperausa.org
SUMMARY:Orientación sobre su negocio y Prospera
DESCRIPTION:Obtenga información básica sobre cómo comenzar un negocio de forma correcta y exitosa. \nAprenderá sobre:\n• Licencias\n• Requisitos del estado\n• Opciones de financiamiento\n• Cómo Prospera le puede proveer asistencia para comenzar o expandir su negocio \n\nRegister Here / Inscríbase Aquí
URL:https://prosperausa.org/seminar/orientacion-sobre-su-negocio-y-prospera-49/
LOCATION:Virtual\, United States
CATEGORIES:Virtual
ATTACH;FMTTYPE=image/png:https://prosperausa.org/wp-content/uploads/2024/09/Inteligencia-emocional-financiera-para-su-exito-empresarial.png
END:VEVENT
BEGIN:VEVENT
DTSTART;TZID=America/New_York:20260723T153000
DTEND;TZID=America/New_York:20260723T170000
DTSTAMP:20260421T145153
CREATED:20260403T174844Z
LAST-MODIFIED:20260403T174844Z
UID:10000769-1784820600-1784826000@prosperausa.org
SUMMARY:Orientación sobre su negocio y Prospera
DESCRIPTION:Obtenga información básica sobre cómo comenzar un negocio de forma correcta y exitosa. \nAprenderá sobre:\n• Licencias\n• Requisitos del estado\n• Opciones de financiamiento\n• Cómo Prospera le puede proveer asistencia para comenzar o expandir su negocio \n\nRegister Here / Inscríbase Aquí
URL:https://prosperausa.org/seminar/orientacion-sobre-su-negocio-y-prospera-50/
LOCATION:Asociación Latinoamericana\, 2750 Buford Hwy NE.\, Atlanta\, GA\, 30324\, United States
CATEGORIES:In-Person / En Persona
ATTACH;FMTTYPE=image/png:https://prosperausa.org/wp-content/uploads/2026/02/Prospera-Office-Latin-American-Association-2-1.png
END:VEVENT
BEGIN:VEVENT
DTSTART;TZID=America/New_York:20260727T150000
DTEND;TZID=America/New_York:20260727T163000
DTSTAMP:20260421T145153
CREATED:20260403T175117Z
LAST-MODIFIED:20260403T175117Z
UID:10000770-1785164400-1785169800@prosperausa.org
SUMMARY:Orientación sobre su negocio y Prospera
DESCRIPTION:Obtenga información básica sobre cómo comenzar un negocio de forma correcta y exitosa. \nAprenderá sobre:\n• Licencias\n• Requisitos del estado\n• Opciones de financiamiento\n• Cómo Prospera le puede proveer asistencia para comenzar o expandir su negocio \n\nRegister Here / Inscríbase Aquí
URL:https://prosperausa.org/seminar/orientacion-sobre-su-negocio-y-prospera-51/
LOCATION:Clearwater Public Library\, 2465 Drew st\, Clearwater\, FL\, 33765\, United States
CATEGORIES:In-Person / En Persona
ATTACH;FMTTYPE=image/png:https://prosperausa.org/wp-content/uploads/2024/09/Inteligencia-emocional-financiera-para-su-exito-empresarial.png
END:VEVENT
BEGIN:VEVENT
DTSTART;TZID=America/New_York:20260728T180000
DTEND;TZID=America/New_York:20260728T193000
DTSTAMP:20260421T145153
CREATED:20260226T210700Z
LAST-MODIFIED:20260406T183051Z
UID:10000677-1785261600-1785267000@prosperausa.org
SUMMARY:QuickBooks® para principiantes
DESCRIPTION:Aprenda a manejar la contabilidad de su negocio de forma práctica y efectiva utilizando QuickBooks®. Descubra cómo automatizar procesos clave\, organizar sus finanzas y generar informes útiles para la toma de decisiones. \nTemas a tratar:\n• Integración y automatización bancaria\n• Creación de un catálogo de cuentas contables\n• Administración básica de proyectos\n• Generación de informes financieros comparativos \n\nRegister Here / Inscríbase Aquí
URL:https://prosperausa.org/seminar/quickbooks-para-principiantes-3/
LOCATION:Virtual\, United States
CATEGORIES:Virtual
ATTACH;FMTTYPE=image/png:https://prosperausa.org/wp-content/uploads/2024/09/QuickBooks®-para-principiantes.png
END:VEVENT
BEGIN:VEVENT
DTSTART;TZID=America/New_York:20260728T180000
DTEND;TZID=America/New_York:20260728T193000
DTSTAMP:20260421T145153
CREATED:20260403T175907Z
LAST-MODIFIED:20260403T175907Z
UID:10000771-1785261600-1785267000@prosperausa.org
SUMMARY:Orientación sobre su negocio y Prospera
DESCRIPTION:Obtenga información básica sobre cómo comenzar un negocio de forma correcta y exitosa.\nAprenderá sobre: \n• Licencias\n• Requisitos del estado\n• Opciones de financiamiento\n• Cómo Prospera le puede proveer asistencia para comenzar o expandir su negocio \n\nRegister Here / Inscríbase Aquí
URL:https://prosperausa.org/seminar/orientacion-sobre-su-negocio-y-prospera-52/
LOCATION:Collaboratory\, 2031 Jackson St.\, Fort Myers\, 33901\, United States
CATEGORIES:In-Person / En Persona
ATTACH;FMTTYPE=image/png:https://prosperausa.org/wp-content/uploads/2024/09/Inteligencia-emocional-financiera-para-su-exito-empresarial.png
END:VEVENT
BEGIN:VEVENT
DTSTART;TZID=America/New_York:20260730T180000
DTEND;TZID=America/New_York:20260730T193000
DTSTAMP:20260421T145153
CREATED:20260410T174602Z
LAST-MODIFIED:20260410T174602Z
UID:10000784-1785434400-1785439800@prosperausa.org
SUMMARY:Microcréditos accesibles para pequeñas empresas
DESCRIPTION:Los microcréditos son una alternativa efectiva para pequeños empresarios que buscan acceso a capital sin recurrir a préstamos tradicionales. Este seminario le brindará una visión integral sobre cómo funcionan los microcréditos\, qué requisitos son necesarios para solicitarlos y cómo aprovecharlos para fortalecer y hacer crecer su negocio. \nTemas a tratar: \n• Qué son los microcréditos y quiénes pueden beneficiarse\n• Requisitos básicos y proceso de solicitud\n• Preparación financiera para acceder a capital\n• Uso estratégico del microcrédito para impulsar su empresa \n\nRegister Here / Inscríbase Aquí
URL:https://prosperausa.org/seminar/microcreditos-accesibles-para-pequenas-empresas/
LOCATION:Prospera Office Jacksonville\, 4651 Salisbury Rd Suite 400\, Jacksonville\, FL\, 32256\, United States
CATEGORIES:In-Person / En Persona
ATTACH;FMTTYPE=image/png:https://prosperausa.org/wp-content/uploads/2024/09/Como-obtener-capital-para-su-negocio.png
END:VEVENT
END:VCALENDAR